BEGIN:VCALENDAR
VERSION:2.0
METHOD:PUBLISH
PRODID:-//imacoda.com//SPD-Web-O-Mat//EN
CALSCALE:GREGORIAN
BEGIN:VTIMEZONE
TZID:Europe/Berlin
BEGIN:DAYLIGHT
TZOFFSETFROM:+0100
RRULE:FREQ=YEARLY;BYMONTH=3;BYDAY=-1SU
DTSTART:19810329T020000
TZNAME:MESZ
TZOFFSETTO:+0200
END:DAYLIGHT
BEGIN:STANDARD
TZOFFSETFROM:+0200
RRULE:FREQ=YEARLY;BYMONTH=10;BYDAY=-1SU
DTSTART:19961027T030000
TZNAME:MEZ
TZOFFSETTO:+0100
END:STANDARD
END:VTIMEZONE
BEGIN:VEVENT
UID:20251231T155604Z-00001158502-LULU@www.bayernspd.de
CREATED:20251231T155604Z
LAST-MODIFIED:20251231T155604Z
DTSTAMP:20251231T155604Z
TRANSP:TRANSPARENT
DTSTART;VALUE=DATE:20260605
DTEND;VALUE=DATE:20260608
SUMMARY:150 Jahre FF Roßtal
LOCATION:
DESCRIPTION:Termin im Web (SPD Roßtal):\nhttps://spd-rosstal.de/termine/
 ?id=1158502
END:VEVENT
END:VCALENDAR
